BEGIN:VCALENDAR
VERSION:2.0
PRODID:-//Y o g a V i z y o n - ECPv6.2.2//NONSGML v1.0//EN
CALSCALE:GREGORIAN
METHOD:PUBLISH
X-WR-CALNAME:Y o g a V i z y o n
X-ORIGINAL-URL:http://yogavizyon.com
X-WR-CALDESC:Y o g a V i z y o n için etkinlikler
REFRESH-INTERVAL;VALUE=DURATION:PT1H
X-Robots-Tag:noindex
X-PUBLISHED-TTL:PT1H
BEGIN:VTIMEZONE
TZID:UTC
BEGIN:STANDARD
TZOFFSETFROM:+0000
TZOFFSETTO:+0000
TZNAME:UTC
DTSTART:20160101T000000
END:STANDARD
END:VTIMEZONE
BEGIN:VEVENT
DTSTART;TZID=UTC:20161224T080000
DTEND;TZID=UTC:20171224T170000
DTSTAMP:20260415T235351
CREATED:20150210T113305Z
LAST-MODIFIED:20160623T030555Z
UID:268-1482566400-1514134800@yogavizyon.com
SUMMARY:Its Selfie Time for our Young Trainees
DESCRIPTION:Cras vehicula ornare felis quis lobortis. Donec et elementum mauris\, sed accumsan ante. Donec suscipit neque vel mauris lobortis\, id condimentum mi mattis. Curabitur dolor nibh\, feugiat in nunc a\, feugiat tristique sem. Curabitur efficitur eros in blandit fermentum. Suspendisse in dui porta\, pretium nibh tristique\, lobortis metus. Nulla dictum ligula accumsan\, imperdiet neque blandit\, rutrum nunc. Proin quis suscipit quam\, eget tincidunt arcu. Ut et tortor nec tellus pretium interdum. Phasellus porttitor\, libero sit amet tempus viverra\, velit felis tincidunt lorem\, vitae tempor lorem erat non lorem. Nam lobortis lacus id est tincidunt\, at tempor tellus tristique. \nIn ex erat\, blandit id lacinia quis\, ornare in magna. Proin vulputate massa vel cursus fringilla. Vivamus sed diam cursus\, rutrum enim et\, viverra mauris. Quisque vestibulum\, sem eu consequat rutrum\, erat purus semper nunc\, ac facilisis nisl eros id ligula. Praesent aliquam lacinia nulla. Nunc sit amet neque eu ipsum mattis tempor. Sed eleifend fringilla elementum. Quisque erat tortor\, efficitur ac rutrum nec\, commodo eu felis.
URL:http://yogavizyon.com/event/its-selfie-time-for-our-young-trainees/
LOCATION:New Orleans\, Louisiana\, peelmedu \, coimbatore\, 95412\, India
CATEGORIES:Bütünsel Sağlık,Günlük Rutin,Yoga
ATTACH;FMTTYPE=image/jpeg:http://yogavizyon.com/wp-content/uploads/2015/02/event1.jpg
ORGANIZER;CN="Matthew Kate":MAILTO:ram@iamd.com
END:VEVENT
BEGIN:VEVENT
DTSTART;TZID=UTC:20170717T080000
DTEND;TZID=UTC:20170721T170000
DTSTAMP:20260415T235351
CREATED:20150210T092159Z
LAST-MODIFIED:20160623T030440Z
UID:246-1500278400-1500656400@yogavizyon.com
SUMMARY:Yoga Times and the Happy Endings
DESCRIPTION:Maecenas convallis quam eget urna imperdiet\, eget gravida erat rutrum. Pellentesque rhoncus odio et lorem pharetra dictum. Nam blandit metus diam\, ut maximus arcu commodo in. Integer auctor sapien enim\, viverra vulputate orci posuere eu. Nulla pretium elit orci\, eu facilisis ligula hendrerit ut. Suspendisse malesuada eros ut euismod euismod. Fusce vestibulum ornare augue\, eu mollis orci volutpat non. Pellentesque habitant morbi tristique senectus et netus et malesuada fames ac turpis egestas. Nulla leo lorem\, bibendum et sapien vel\, venenatis ultrices libero. \nSuspendisse arcu odio\, elementum et nisl nec\, maximus consectetur purus. Maecenas lacus magna\, malesuada et gravida sit amet\, rutrum non nisl. Sed non suscipit nunc\, ac varius sapien. Vestibulum euismod vehicula mauris. Ut et faucibus dui. Cras ornare nulla eget massa semper\, a viverra lectus aliquam. Mauris sollicitudin turpis eget est eleifend\, et pretium nunc feugiat. Aenean tristique velit magna. Curabitur a turpis orci.
URL:http://yogavizyon.com/event/yoga-times-and-the-happy-endings/
LOCATION:Houston\, Texas\, Avalanche\, Ooty\, 87455\, India
CATEGORIES:Ayurveda,Bütünsel Sağlık,Diyet
ATTACH;FMTTYPE=image/jpeg:http://yogavizyon.com/wp-content/uploads/2015/02/event5.jpg
ORGANIZER;CN="William Dafoe":MAILTO:http://iamdesigning.com
END:VEVENT
END:VCALENDAR